BEGIN:VCALENDAR
VERSION:2.0
PRODID:-//mecome - ECPv6.15.14//NONSGML v1.0//EN
CALSCALE:GREGORIAN
METHOD:PUBLISH
X-WR-CALNAME:mecome
X-ORIGINAL-URL:https://www.mecome.de
X-WR-CALDESC:Veranstaltungen für mecome
REFRESH-INTERVAL;VALUE=DURATION:PT1H
X-Robots-Tag:noindex
X-PUBLISHED-TTL:PT1H
BEGIN:VTIMEZONE
TZID:Europe/Helsinki
BEGIN:DAYLIGHT
TZOFFSETFROM:+0200
TZOFFSETTO:+0300
TZNAME:EEST
DTSTART:20250330T010000
END:DAYLIGHT
BEGIN:STANDARD
TZOFFSETFROM:+0300
TZOFFSETTO:+0200
TZNAME:EET
DTSTART:20251026T010000
END:STANDARD
BEGIN:DAYLIGHT
TZOFFSETFROM:+0200
TZOFFSETTO:+0300
TZNAME:EEST
DTSTART:20260329T010000
END:DAYLIGHT
BEGIN:STANDARD
TZOFFSETFROM:+0300
TZOFFSETTO:+0200
TZNAME:EET
DTSTART:20261025T010000
END:STANDARD
BEGIN:DAYLIGHT
TZOFFSETFROM:+0200
TZOFFSETTO:+0300
TZNAME:EEST
DTSTART:20270328T010000
END:DAYLIGHT
BEGIN:STANDARD
TZOFFSETFROM:+0300
TZOFFSETTO:+0200
TZNAME:EET
DTSTART:20271031T010000
END:STANDARD
END:VTIMEZONE
BEGIN:VEVENT
DTSTART;TZID=Europe/Helsinki:20260312T162500
DTEND;TZID=Europe/Helsinki:20260312T174000
DTSTAMP:20260421T164223
CREATED:20260126T120202Z
LAST-MODIFIED:20260126T122300Z
UID:17037-1773332700-1773337200@www.mecome.de
SUMMARY:„Stark\, stärker\, ich selbst!“
DESCRIPTION:Anwendungstraining im Rahmen GROW GründungsAkademie von 09. März 2026 bis 14. März 2026 an der Technischen Hochschule Deggendorf. \n\n\n\n\n\n\n\n\nStundenplan\n\n\n\nParkplätze\n\n\n\nAnmeldung
URL:https://www.mecome.de/veranstaltung/stark-staerker-ich-selbst/
LOCATION:Technische Hochschule Deggendorf\, Dieter-Görlitz-Platz 1\, Deggendorf\, 94469\, Germany
CATEGORIES:Seminare
ATTACH;FMTTYPE=image/jpeg:https://www.mecome.de/wp-content/uploads/2026/01/plakat_grow_gruendungsakademie_2026.jpg
END:VEVENT
END:VCALENDAR